BEGIN:VCALENDAR
VERSION:2.0
PRODID:-//wp-events-plugin.com//7.2.3.1//EN
TZID:America/New_York
X-WR-TIMEZONE:America/New_York
BEGIN:VEVENT
UID:375@harvard-yenching.org
DTSTART;TZID=America/New_York:20241107T113000
DTEND;TZID=America/New_York:20241107T130000
DTSTAMP:20241015T151938Z
URL:https://www.harvard-yenching.org/events/kaiping-zhang-governing-china-
 in-the-digital-age/
SUMMARY:Governing China in the Digital Age: Legacies\, Challenges\, and Tra
 nsformations
DESCRIPTION:Co-sponsored by the Fairbank Center for Chinese Studies\n\nChin
 a has carried numerous historical legacies of governance from the imperial
  and revolutionary eras into the digital age. How do these historical shad
 ows clash with a modernized\, networked society? Drawing on computational 
 analyses of extensive data on propaganda\, government documents\, and publ
 ic opinion\, this talk examines how China has adapted its governance pract
 ices to meet contemporary challenges —and whether these adaptations have
  been effective. The aim is to offer insights into the future prospects of
  China and its engagement with the world.
CATEGORIES:Visiting Scholar Talks
LOCATION:Common Room (#136)\, 2 Divinity Avenue\, Cambridge\, MA\, United S
 tates
X-APPLE-STRUCTURED-LOCATION;VALUE=URI;X-ADDRESS=2 Divinity Avenue\, Cambrid
 ge\, MA\, United States;X-APPLE-RADIUS=100;X-TITLE=Common Room (#136):geo:
 0,0
END:VEVENT
BEGIN:VTIMEZONE
TZID:America/New_York
X-LIC-LOCATION:America/New_York
BEGIN:STANDARD
DTSTART:20241103T010000
TZOFFSETFROM:-0400
TZOFFSETTO:-0500
TZNAME:EST
END:STANDARD
END:VTIMEZONE
END:VCALENDAR