BEGIN:VCALENDAR
VERSION:2.0
PRODID:-//wp-events-plugin.com//7.2.3.1//EN
TZID:America/New_York
X-WR-TIMEZONE:America/New_York
BEGIN:VEVENT
UID:226@harvard-yenching.org
DTSTART;TZID=America/New_York:20140616T090000
DTEND;TZID=America/New_York:20140620T170000
DTSTAMP:20201027T004211Z
URL:https://www.harvard-yenching.org/events/new-departures-comparative-and
 -world-literature-studiesthemes-and-methods/
SUMMARY:New Departures in Comparative and World Literature Studies:Themes a
 nd Methods
DESCRIPTION:\n	比较文学与世界文学研究新方向：主题与方法
 \n\n	A Training Program sponsored by the Harvard-Yenching Institute\, the
  Department of Foreign Languages and Literatures at Tsinghua University\, 
 and the Center for Comparative Literature and Cultural Studies at Tsinghua
  University\n\n\n	More information about the program
LOCATION:\, \, 
X-APPLE-STRUCTURED-LOCATION;VALUE=URI;X-ADDRESS=\, ;X-APPLE-RADIUS=100;X-TI
 TLE=:geo:0,0
END:VEVENT
BEGIN:VTIMEZONE
TZID:America/New_York
X-LIC-LOCATION:America/New_York
BEGIN:DAYLIGHT
DTSTART:20140309T030000
TZOFFSETFROM:-0500
TZOFFSETTO:-0400
TZNAME:EDT
END:DAYLIGHT
END:VTIMEZONE
END:VCALENDAR