BEGIN:VCALENDAR
VERSION:2.0
PRODID:-//wp-events-plugin.com//7.2.3.1//EN
TZID:America/New_York
X-WR-TIMEZONE:America/New_York
BEGIN:VEVENT
UID:69@harvard-yenching.org
DTSTART;TZID=America/New_York:20181120T120000
DTEND;TZID=America/New_York:20181120T133000
DTSTAMP:20201027T004159Z
URL:https://www.harvard-yenching.org/events/shen-hong-november-20/
SUMMARY:“Seeking Truth”? True and Not True---On the Equivocal Position 
 of Hangchow Christian College in the History of Zhejiang University
DESCRIPTION:\n	Shen Hong (Professor of English\, School of International St
 udies\, Zhejiang University\; HYI Visiting Scholar 2018-19)\n	Chair/discus
 sant: David Wang (Edward C. Henderson Professor of Chinese Literature\, D
 epartment of East Asian Languages and Civilizations\, Harvard University)\
 n\n	Co-sponsored by the Fairbank Center for Chinese Studies\n\n\n	Hangchow
  Christian College used to be one of the thirteen Protestant missionary co
 lleges and university in China that were abolished in 1952. As the earlies
 t institute of higher learning in Zhejiang Province\, it once helped the l
 ocal government in founding Qiushi Academy---the predecessor of Zhejiang U
 niversity. Since 1952\, a large part of the former Hangchow Christian Coll
 ege was also merged into Zhejiang University. Today the university authori
 ties have a mixed feeling towards this former missionary college. On the o
 ne hand\, Zhejiang University enjoys the tremendous material advantages br
 ought about by Hangchow Christian College\, but on the other hand\, it ref
 uses to acknowledge the latter’s contributions and help in its early his
 tory. The present talk aims to make an assessment of the equivocal positio
 n of Hangchow Christian College in the history of Zhejiang University.
LOCATION:\, \, 
X-APPLE-STRUCTURED-LOCATION;VALUE=URI;X-ADDRESS=\, ;X-APPLE-RADIUS=100;X-TI
 TLE=:geo:0,0
END:VEVENT
BEGIN:VTIMEZONE
TZID:America/New_York
X-LIC-LOCATION:America/New_York
BEGIN:STANDARD
DTSTART:20181104T010000
TZOFFSETFROM:-0400
TZOFFSETTO:-0500
TZNAME:EST
END:STANDARD
END:VTIMEZONE
END:VCALENDAR