BEGIN:VCALENDAR
VERSION:2.0
PRODID:-//wp-events-plugin.com//7.2.3.1//EN
TZID:America/New_York
X-WR-TIMEZONE:America/New_York
BEGIN:VEVENT
UID:440@harvard-yenching.org
DTSTART;TZID=America/New_York:20260601T090000
DTEND;TZID=America/New_York:20260607T170000
DTSTAMP:20260115T192756Z
URL:https://www.harvard-yenching.org/events/technological-innovation-and-c
 ultural-integration-in-the-indian-ocean-world/
SUMMARY:Technological Innovation and Cultural Integration in the Indian Oce
 an World
DESCRIPTION:East China Normal University and Harvard-Yenching Institute\n\n
 Co-sponsored by NYU Shanghai\n\nMore information
CATEGORIES:Training Programs
END:VEVENT
BEGIN:VTIMEZONE
TZID:America/New_York
X-LIC-LOCATION:America/New_York
BEGIN:DAYLIGHT
DTSTART:20260308T030000
TZOFFSETFROM:-0500
TZOFFSETTO:-0400
TZNAME:EDT
END:DAYLIGHT
END:VTIMEZONE
END:VCALENDAR