BEGIN:VCALENDAR
VERSION:2.0
PRODID:-//wp-events-plugin.com//7.2.3.1//EN
TZID:America/New_York
X-WR-TIMEZONE:America/New_York
BEGIN:VEVENT
UID:423@harvard-yenching.org
DTSTART;TZID=America/New_York:20260613T090000
DTEND;TZID=America/New_York:20260617T170000
DTSTAMP:20251202T200534Z
URL:https://www.harvard-yenching.org/events/the-political-economy-of-china
 -and-its-role-in-the-world/
SUMMARY:The Political Economy of China and its Role in the World
DESCRIPTION:A University of Tokyo – Harvard-Yenching Institute Joint Trai
 ning Program\n\nMore information
CATEGORIES:Training Programs
LOCATION:Hongo Campus\, The University of Tokyo\, Japan\, Japan
X-APPLE-STRUCTURED-LOCATION;VALUE=URI;X-ADDRESS=The University of Tokyo\, J
 apan\, Japan;X-APPLE-RADIUS=100;X-TITLE=Hongo Campus:geo:0,0
END:VEVENT
BEGIN:VTIMEZONE
TZID:America/New_York
X-LIC-LOCATION:America/New_York
BEGIN:DAYLIGHT
DTSTART:20260308T030000
TZOFFSETFROM:-0500
TZOFFSETTO:-0400
TZNAME:EDT
END:DAYLIGHT
END:VTIMEZONE
END:VCALENDAR